BEGIN:VCALENDAR
VERSION:2.0
PRODID:-//wp-events-plugin.com//6.5//EN
BEGIN:VEVENT
UID:70-10229@munchen.swea.org
DTSTART;TZID=Europe/Berlin:20260306T110000
DTEND;TZID=Europe/Berlin:20260306T130000
DTSTAMP:20260310T215507Z
URL:https://munchen.swea.org/events/museumsbesok-geologisches-mars-2026/
SUMMARY:Museumsbesök: Geologisches Museum München
DESCRIPTION:Museumsbesök\nVi besöker utställningen om Bayerns steniga hi
 storia på Luisenstrasse 37. Om vi har tid fortsätter vi fram eller bak i
  tiden till Paläontologiska museet. \nHör av dig till Maria om du kommer
 .
END:VEVENT
BEGIN:VTIMEZONE
TZID:Europe/Berlin
X-LIC-LOCATION:Europe/Berlin
BEGIN:STANDARD
DTSTART:20251026T020000
TZOFFSETFROM:+0200
TZOFFSETTO:+0100
TZNAME:CET
END:STANDARD
END:VTIMEZONE
END:VCALENDAR