BEGIN:VCALENDAR
VERSION:2.0
PRODID:-//wp-events-plugin.com//6.5//EN
BEGIN:VEVENT
UID:70-9191@munchen.swea.org
DTSTART;TZID=Europe/Berlin:20251008T110000
DTEND;TZID=Europe/Berlin:20251008T130000
DTSTAMP:20260310T214819Z
URL:https://munchen.swea.org/events/museumsbesok-schloss-schleissheim-okto
 ber-2025/
SUMMARY:Museumsbesök - Schloss Schleissheim
DESCRIPTION:Vi ses vid ingången till Altes Schloss och besöker även Nya 
 slottet och utställningarna. Förhoppningsvis blir det fint väder så vi
  kan gå i trädgården. Ta med kontanter (kort accepteras inte). \n\nHör
  av dig till Maria på om du kommer.\n\nSchlossanlage Schleißheim\nAltes
  Schloss (Oberschleißheim bei München)\, Max-Emanuel-Platz 1\, 85764 Obe
 rschleißheim
END:VEVENT
BEGIN:VTIMEZONE
TZID:Europe/Berlin
X-LIC-LOCATION:Europe/Berlin
BEGIN:DAYLIGHT
DTSTART:20250330T030000
TZOFFSETFROM:+0100
TZOFFSETTO:+0200
TZNAME:CEST
END:DAYLIGHT
END:VTIMEZONE
END:VCALENDAR